BEGIN:VCALENDAR
VERSION:2.0
PRODID:-//Cheer Home Care - ECPv6.15.11//NONSGML v1.0//EN
CALSCALE:GREGORIAN
METHOD:PUBLISH
X-WR-CALNAME:Cheer Home Care
X-ORIGINAL-URL:https://cheerhomecare.com
X-WR-CALDESC:Events for Cheer Home Care
REFRESH-INTERVAL;VALUE=DURATION:PT1H
X-Robots-Tag:noindex
X-PUBLISHED-TTL:PT1H
BEGIN:VTIMEZONE
TZID:America/Los_Angeles
BEGIN:DAYLIGHT
TZOFFSETFROM:-0800
TZOFFSETTO:-0700
TZNAME:PDT
DTSTART:20250309T100000
END:DAYLIGHT
BEGIN:STANDARD
TZOFFSETFROM:-0700
TZOFFSETTO:-0800
TZNAME:PST
DTSTART:20251102T090000
END:STANDARD
BEGIN:DAYLIGHT
TZOFFSETFROM:-0800
TZOFFSETTO:-0700
TZNAME:PDT
DTSTART:20260308T100000
END:DAYLIGHT
BEGIN:STANDARD
TZOFFSETFROM:-0700
TZOFFSETTO:-0800
TZNAME:PST
DTSTART:20261101T090000
END:STANDARD
BEGIN:DAYLIGHT
TZOFFSETFROM:-0800
TZOFFSETTO:-0700
TZNAME:PDT
DTSTART:20270314T100000
END:DAYLIGHT
BEGIN:STANDARD
TZOFFSETFROM:-0700
TZOFFSETTO:-0800
TZNAME:PST
DTSTART:20271107T090000
END:STANDARD
END:VTIMEZONE
BEGIN:VEVENT
DTSTART;TZID=America/Los_Angeles:20260326T120000
DTEND;TZID=America/Los_Angeles:20260326T130000
DTSTAMP:20260423T153417
CREATED:20260203T155211Z
LAST-MODIFIED:20260219T141046Z
UID:15234-1774526400-1774530000@cheerhomecare.com
SUMMARY:Lunch and Learn with TruBlue Home Service Ally
DESCRIPTION:Supporting Seniors to Age Safely at Home\nMore seniors are choosing to age in place\, making it essential to have a certified specialist in safety and accessibility. Join the Cheer team for a Lunch and Learn with TruBlue Home Service Ally to explore home modifications that enhance safety\, comfort\, and independence. \nDate: Thursday\, 26 March 2026\nTime: 12:00 PM – 1:00 PM\nLocation: 5622 La Jolla Blvd. La Jolla\, CA 92037 (Bird Rock office)\nGuest Speaker: Liz Meissner\nRSVP: Email events@cheerhomecare.com or 858-868-5500
URL:https://cheerhomecare.com/event/lunch-learn-trublue-home-modifications/
LOCATION:Cheer Home Care\, 5622 La Jolla Blvd\, La Jolla\, CA\, 92037\, United States
ATTACH;FMTTYPE=image/png:https://cheerhomecare.com/wp-content/uploads/2026/02/Lunch-and-Learn-with-TruBlue-Home-Service-Ally.png
GEO:32.814305145483;-117.27013198927
X-APPLE-STRUCTURED-LOCATION;VALUE=URI;X-ADDRESS=Cheer Home Care 5622 La Jolla Blvd La Jolla CA 92037 United States;X-APPLE-RADIUS=500;X-TITLE=5622 La Jolla Blvd:geo:-117.27013198927,32.814305145483
END:VEVENT
END:VCALENDAR